BEGIN:VCALENDAR
VERSION:2.0
PRODID:-//CIFP Rodolfo Ucha Piñeiro - ECPv6.15.18//NONSGML v1.0//EN
CALSCALE:GREGORIAN
METHOD:PUBLISH
X-ORIGINAL-URL:https://www.cifprodolfoucha.es
X-WR-CALDESC:Events for CIFP Rodolfo Ucha Piñeiro
REFRESH-INTERVAL;VALUE=DURATION:PT1H
X-Robots-Tag:noindex
X-PUBLISHED-TTL:PT1H
BEGIN:VTIMEZONE
TZID:Europe/Paris
BEGIN:DAYLIGHT
TZOFFSETFROM:+0100
TZOFFSETTO:+0200
TZNAME:CEST
DTSTART:20240331T010000
END:DAYLIGHT
BEGIN:STANDARD
TZOFFSETFROM:+0200
TZOFFSETTO:+0100
TZNAME:CET
DTSTART:20241027T010000
END:STANDARD
BEGIN:DAYLIGHT
TZOFFSETFROM:+0100
TZOFFSETTO:+0200
TZNAME:CEST
DTSTART:20250330T010000
END:DAYLIGHT
BEGIN:STANDARD
TZOFFSETFROM:+0200
TZOFFSETTO:+0100
TZNAME:CET
DTSTART:20251026T010000
END:STANDARD
BEGIN:DAYLIGHT
TZOFFSETFROM:+0100
TZOFFSETTO:+0200
TZNAME:CEST
DTSTART:20260329T010000
END:DAYLIGHT
BEGIN:STANDARD
TZOFFSETFROM:+0200
TZOFFSETTO:+0100
TZNAME:CET
DTSTART:20261025T010000
END:STANDARD
BEGIN:DAYLIGHT
TZOFFSETFROM:+0100
TZOFFSETTO:+0200
TZNAME:CEST
DTSTART:20270328T010000
END:DAYLIGHT
BEGIN:STANDARD
TZOFFSETFROM:+0200
TZOFFSETTO:+0100
TZNAME:CET
DTSTART:20271031T010000
END:STANDARD
END:VTIMEZONE
BEGIN:VEVENT
DTSTART;TZID=Europe/Paris:20260420T161500
DTEND;TZID=Europe/Paris:20260420T180000
DTSTAMP:20260422T230737
CREATED:20260416T192607Z
LAST-MODIFIED:20260416T192607Z
UID:15460-1776701700-1776708000@www.cifprodolfoucha.es
SUMMARY:Charla para alumnado do curso de especialización en Ciberseguridade
DESCRIPTION:Ignacio Quintas e Pablo Lago da empresa ALTIA impartirán unha charla para o alumnado do curso de especialización en Ciberseguridade
URL:https://www.cifprodolfoucha.es/evento/charla-para-alumnado-do-curso-de-especializacion-en-ciberseguridade/
END:VEVENT
BEGIN:VEVENT
DTSTART;TZID=Europe/Paris:20260420T093000
DTEND;TZID=Europe/Paris:20260420T133000
DTSTAMP:20260422T230737
CREATED:20260416T191001Z
LAST-MODIFIED:20260416T191001Z
UID:15456-1776677400-1776691800@www.cifprodolfoucha.es
SUMMARY:Bautismo de surf
DESCRIPTION:O alumnado do 1º curso CS Ensinanza e animación sociodeportiva iniciarase no surf na praia do Rodo en Pantín
URL:https://www.cifprodolfoucha.es/evento/bautismo-de-surf-3/
END:VEVENT
BEGIN:VEVENT
DTSTART;TZID=Europe/Paris:20260417T113000
DTEND;TZID=Europe/Paris:20260417T123000
DTSTAMP:20260422T230737
CREATED:20260418T172322Z
LAST-MODIFIED:20260418T190139Z
UID:15464-1776425400-1776429000@www.cifprodolfoucha.es
SUMMARY:Proba curso AFD
DESCRIPTION:Proba de acceso para o curso AFD COMT0112: Actividades de xestión do pequeno comercio. \n Impartirase no centro dende o 21 de abril ata o 29 de outubro\, Horario de 16h  a 21h (en xullo de 9h a 14h)\, agosto vacacións
URL:https://www.cifprodolfoucha.es/evento/proba-curso-afd/
END:VEVENT
BEGIN:VEVENT
DTSTART;TZID=Europe/Paris:20260417T083000
DTEND;TZID=Europe/Paris:20260417T150000
DTSTAMP:20260422T230737
CREATED:20260416T190449Z
LAST-MODIFIED:20260416T190449Z
UID:15454-1776414600-1776438000@www.cifprodolfoucha.es
SUMMARY:Visita a Betanzos
DESCRIPTION:O alumnado do CS Guía\, información e asistencias turísticas visitan maña a vila de Betanzos\, rematarán esta interesante xornadaa no Pazo de Mariñán
URL:https://www.cifprodolfoucha.es/evento/visita-a-betanzos/
END:VEVENT
BEGIN:VEVENT
DTSTART;TZID=Europe/Paris:20260413T170000
DTEND;TZID=Europe/Paris:20260413T180000
DTSTAMP:20260422T230737
CREATED:20260418T172206Z
LAST-MODIFIED:20260418T172206Z
UID:15462-1776099600-1776103200@www.cifprodolfoucha.es
SUMMARY:Proba para o curso AFD
DESCRIPTION:Proba de acceso para o curso AFD COMT0112: Actividades de xestión do pequeno comercio. \n Impartirase no centro dende o 20 de abril ata o 29 de outubro\, Horario de 16h  a 21h (en xullo de 9h a 14h)\, agosto vacacións
URL:https://www.cifprodolfoucha.es/evento/proba-para-o-curso-afd/
END:VEVENT
BEGIN:VEVENT
DTSTART;TZID=Europe/Paris:20260316T161500
DTEND;TZID=Europe/Paris:20260316T180000
DTSTAMP:20260422T230737
CREATED:20260311T094355Z
LAST-MODIFIED:20260311T094355Z
UID:15367-1773677700-1773684000@www.cifprodolfoucha.es
SUMMARY:Charla de Fernando Segura e Marcos Carro
DESCRIPTION:O alumnado do curso de especializacion en Ciberseguridade en contornos da tecnoloxías da información poderá desfrutar dunha charla impartatida por Fernando Segura e Marcos Carro “IndraMind Cybersecurity”
URL:https://www.cifprodolfoucha.es/evento/charla-de-fernando-segura-e-marcos-carro/
END:VEVENT
BEGIN:VEVENT
DTSTART;TZID=Europe/Paris:20260126T040000
DTEND;TZID=Europe/Paris:20260128T173000
DTSTAMP:20260422T230737
CREATED:20260121T124942Z
LAST-MODIFIED:20260121T124942Z
UID:15263-1769400000-1769621400@www.cifprodolfoucha.es
SUMMARY:Viaxe a San Isidro
DESCRIPTION:O alumnado do CS Ensinanza e animación sociodeportiva viaxa a estación de esquí de San isidro para o aprendizaxe de esquí e snow
URL:https://www.cifprodolfoucha.es/evento/viaxe-a-san-isidro/
END:VEVENT
BEGIN:VEVENT
DTSTART;TZID=Europe/Paris:20260122T093000
DTEND;TZID=Europe/Paris:20260122T123000
DTSTAMP:20260422T230737
CREATED:20260121T130144Z
LAST-MODIFIED:20260121T130144Z
UID:15266-1769074200-1769085000@www.cifprodolfoucha.es
SUMMARY:Mañá de cinema
DESCRIPTION:O alumnado do CB Informática de oficina e o do 1º curso do CM Sistemas Microinformáticos asistirán á proxección de Rondallas  en Odeón
URL:https://www.cifprodolfoucha.es/evento/mana-de-cinema/
END:VEVENT
BEGIN:VEVENT
DTSTART;TZID=Europe/Paris:20260121T160000
DTEND;TZID=Europe/Paris:20260121T180000
DTSTAMP:20260422T230737
CREATED:20260121T155754Z
LAST-MODIFIED:20260121T155754Z
UID:15268-1769011200-1769018400@www.cifprodolfoucha.es
SUMMARY:Charla de Andrés Tarascó
DESCRIPTION:Charla de Andrés Tarascó\, CEO e co-fundador de Tarlogic\, a maior empresa de ciberseguridade de Galicia\, que virá a falarnos de emprendemento e ciberseguridade
URL:https://www.cifprodolfoucha.es/evento/charla-de-andres-tarasco/
END:VEVENT
BEGIN:VEVENT
DTSTART;TZID=Europe/Paris:20251216T084500
DTEND;TZID=Europe/Paris:20251216T134500
DTSTAMP:20260422T230737
CREATED:20251215T201714Z
LAST-MODIFIED:20251215T201714Z
UID:15220-1765874700-1765892700@www.cifprodolfoucha.es
SUMMARY:Visita exposicións na Coruña
DESCRIPTION:O alumnado de 1º CS Márketing e Publicidade e o 2º CM Acitividades Comerciais visitará a exposición de fotografía da fundación MOP e a exposición de educación financieira de A Fundación. \n 
URL:https://www.cifprodolfoucha.es/evento/visita-exposicions-na-coruna/
END:VEVENT
BEGIN:VEVENT
DTSTART;TZID=Europe/Paris:20251216T083000
DTEND;TZID=Europe/Paris:20251216T140000
DTSTAMP:20260422T230737
CREATED:20251215T201037Z
LAST-MODIFIED:20251215T201037Z
UID:15218-1765873800-1765893600@www.cifprodolfoucha.es
SUMMARY:Visita a Inditex (Arteixo)
DESCRIPTION:O alumnado do 1º curso do CS Asistencia á Dirección visitará as instalacións de Inditex en Arteixo
URL:https://www.cifprodolfoucha.es/evento/visita-a-inditex-arteixo-2/
END:VEVENT
BEGIN:VEVENT
DTSTART;TZID=Europe/Paris:20251128T103000
DTEND;TZID=Europe/Paris:20251128T135000
DTSTAMP:20260422T230737
CREATED:20251126T193745Z
LAST-MODIFIED:20251126T193745Z
UID:15215-1764325800-1764337800@www.cifprodolfoucha.es
SUMMARY:Visita a Jim Sports
DESCRIPTION:O alumnado de 2º do CM Actividades Comerciais e 2º CS Xestión de Vendas visitan as instalacións da empresa en Palas de Reis
URL:https://www.cifprodolfoucha.es/evento/visita-a-jim-sports-2/
END:VEVENT
BEGIN:VEVENT
DTSTART;TZID=Europe/Paris:20251127T103000
DTEND;TZID=Europe/Paris:20251127T133000
DTSTAMP:20260422T230737
CREATED:20251126T193443Z
LAST-MODIFIED:20251126T193443Z
UID:15213-1764239400-1764250200@www.cifprodolfoucha.es
SUMMARY:Xornada de presentación INNOVATECH
DESCRIPTION:O alumnado do 1º curso do CS Guía\, información e asistencia turísticas acudirán ao Palacio de Congreso de Santiago a presentación do Programa INNOVATECHFP onde o alumnado de Formación Profesional enfrontarase á resolución de 20 retos tecnolóxicos expostos por empresas
URL:https://www.cifprodolfoucha.es/evento/xornada-de-presentacion-innovatech/
END:VEVENT
BEGIN:VEVENT
DTSTART;TZID=Europe/Paris:20251121T193000
DTEND;TZID=Europe/Paris:20251121T210000
DTSTAMP:20260422T230737
CREATED:20251121T105528Z
LAST-MODIFIED:20251121T105528Z
UID:15174-1763753400-1763758800@www.cifprodolfoucha.es
SUMMARY:Charla sobre ventas
DESCRIPTION:O alumnado do 2º curso de CM Comercialización de produtos alimentarios e 1º de CS Xestión de vendas da modalidade dual asistirán a unha charla:“CADA VEZ QUE ALGUIEN DICE QUE LE VENDE A TODO EL MUNDO NO MUERE  UN GATITO\, MUERE UN UNICORNIO: APRENDE A VENDER Y DEJA ATRáS LA  FANTASíA.”. No centro cívico de Canido
URL:https://www.cifprodolfoucha.es/evento/charla-sobre-ventas/
END:VEVENT
BEGIN:VEVENT
DTSTART;TZID=Europe/Paris:20251106T104000
DTEND;TZID=Europe/Paris:20251106T130000
DTSTAMP:20260422T230737
CREATED:20251105T091829Z
LAST-MODIFIED:20251105T091829Z
UID:15117-1762425600-1762434000@www.cifprodolfoucha.es
SUMMARY:Visita á I Feira de Educación e Formación de Ferrol
DESCRIPTION:O alumnado dos segundos cursos das seguintes ensinanza visitan no Auditorio de Ferrol a I Feira de Educación e Formación Profesional \nCS Proxectos de Edificación \nCS Asistencia á Dirección \nCS Márketing e Publicidade \nCS Administración de Sistemas Informáticos
URL:https://www.cifprodolfoucha.es/evento/visita-a-i-feira-de-educacion-e-formacion-de-ferrol/
END:VEVENT
BEGIN:VEVENT
DTSTART;TZID=Europe/Paris:20251020T083000
DTEND;TZID=Europe/Paris:20251020T150000
DTSTAMP:20260422T230737
CREATED:20251014T075615Z
LAST-MODIFIED:20251014T075615Z
UID:15111-1760949000-1760972400@www.cifprodolfoucha.es
SUMMARY:Visita guiada polo Xeoparque Cabo Ortegal
DESCRIPTION:O alumnado de 1º e 2º do CS Guía\, Información e Asistencia Turísticas realizará unha visita guiada polo xeoparque Cabo Ortegal\, percorrerán San André de Teiixido\, o mirador de Herbeira e Castelo de Moeche
URL:https://www.cifprodolfoucha.es/evento/visita-guiada-polo-xeoparque-cabo-ortegal/
END:VEVENT
BEGIN:VEVENT
DTSTART;TZID=Europe/Paris:20251017T084000
DTEND;TZID=Europe/Paris:20251017T123000
DTSTAMP:20260422T230737
CREATED:20251003T172134Z
LAST-MODIFIED:20251003T172134Z
UID:15105-1760690400-1760704200@www.cifprodolfoucha.es
SUMMARY:Actividades con maiores
DESCRIPTION:O alumnado do 2º CS Ensinanza e animación sociodeportiva visitarán o local social de Lago para realizar unha actividade con persoas da 3º idade
URL:https://www.cifprodolfoucha.es/evento/actividades-con-maiores/
END:VEVENT
BEGIN:VEVENT
DTSTART;TZID=Europe/Paris:20251015T100000
DTEND;TZID=Europe/Paris:20251015T143000
DTSTAMP:20260422T230737
CREATED:20251014T075259Z
LAST-MODIFIED:20251014T075259Z
UID:15109-1760522400-1760538600@www.cifprodolfoucha.es
SUMMARY:Coñecer o patrimonio cultural e natural de Ferrol
DESCRIPTION:O alumnado do CS Guía\, información e asistencias turísticas visita a museo da Sociedade Galega de Histoira Natural\, realizarán tamén un roteiro pola Alameda e prazas de Ferrol para coñecer as especies árboreas e a súa singularidade
URL:https://www.cifprodolfoucha.es/evento/conecer-o-patrimonio-cultural-e-natural-de-ferrol/
END:VEVENT
BEGIN:VEVENT
DTSTART;TZID=Europe/Paris:20251009T100000
DTEND;TZID=Europe/Paris:20251009T140000
DTSTAMP:20260422T230737
CREATED:20251003T171354Z
LAST-MODIFIED:20251003T171354Z
UID:15100-1760004000-1760018400@www.cifprodolfoucha.es
SUMMARY:Coñece o patrimonio turístico do Concello de Narón
DESCRIPTION:O alumnado do CS Guía\, Información e asistencia turísticas realizará unha visita guiada polo Muiño de Xuvia
URL:https://www.cifprodolfoucha.es/evento/conece-o-patrimonio-turistico-do-concello-de-naron/
END:VEVENT
BEGIN:VEVENT
DTSTART;TZID=Europe/Paris:20251009T090000
DTEND;TZID=Europe/Paris:20251009T150000
DTSTAMP:20260422T230737
CREATED:20251003T171117Z
LAST-MODIFIED:20251003T171117Z
UID:15098-1760000400-1760022000@www.cifprodolfoucha.es
SUMMARY:Roteiro pola Fraga do Eume
DESCRIPTION:O alumnado de Informática de Oficina realizará un roteiro pola Fraga do Eume
URL:https://www.cifprodolfoucha.es/evento/roteiro-pola-fraga-do-eume/
END:VEVENT
BEGIN:VEVENT
DTSTART;TZID=Europe/Paris:20251009T083000
DTEND;TZID=Europe/Paris:20251009T150000
DTSTAMP:20260422T230737
CREATED:20251003T170953Z
LAST-MODIFIED:20251003T170953Z
UID:15096-1759998600-1760022000@www.cifprodolfoucha.es
SUMMARY:VISITA Á JIM SPORTS
DESCRIPTION:O alumnado do 2º CS Administración e Finanzas de ordinario e 1º de dual xunto co 2º CS Transporte e loxistica visitan as instalacións da empresa JIM SPORTS  en Palas de Reis
URL:https://www.cifprodolfoucha.es/evento/visita-a-jim-sports/
END:VEVENT
BEGIN:VEVENT
DTSTART;TZID=Europe/Paris:20251009T081500
DTEND;TZID=Europe/Paris:20251009T153000
DTSTAMP:20260422T230737
CREATED:20251003T171919Z
LAST-MODIFIED:20251003T171919Z
UID:15103-1759997700-1760023800@www.cifprodolfoucha.es
SUMMARY:Visita a Conxemar
DESCRIPTION:O a lumnado dos 2º cursos dos CS de Márketing e Publicidade e Xestión de Vendas (ordinario e dual) visitarán en Vigo Conxemar
URL:https://www.cifprodolfoucha.es/evento/visita-a-conxemar/
END:VEVENT
BEGIN:VEVENT
DTSTART;TZID=Europe/Paris:20250929T083000
DTEND;TZID=Europe/Paris:20250929T150000
DTSTAMP:20260422T230737
CREATED:20250923T081753Z
LAST-MODIFIED:20250923T081753Z
UID:15080-1759134600-1759158000@www.cifprodolfoucha.es
SUMMARY:Visita á cúpula do Monte de San Pedro e Cámara de comercio de A Coruña
DESCRIPTION:O alumnado de 1º CS Administración e Finanzas e 2º CM  de Xestión Administrativa visitan a cúpula do Monte de San Pedro e a Cámara de Comercio de A Coruña
URL:https://www.cifprodolfoucha.es/evento/visita-a-cupula-do-monte-de-san-pedro-e-camara-de-comercio-de-a-coruna/
END:VEVENT
BEGIN:VEVENT
DTSTART;TZID=Europe/Paris:20250514T090000
DTEND;TZID=Europe/Paris:20250514T133000
DTSTAMP:20260422T230737
CREATED:20250511T184547Z
LAST-MODIFIED:20250511T184547Z
UID:14766-1747213200-1747229400@www.cifprodolfoucha.es
SUMMARY:Bautismo de surf
DESCRIPTION:O alumnado do 1º CS Ensinanza e animación sociodeportiva recibirá un bautismo de surf na praia de Pantín
URL:https://www.cifprodolfoucha.es/evento/bautismo-de-surf-2/
END:VEVENT
BEGIN:VEVENT
DTSTART;TZID=Europe/Paris:20250512T123000
DTEND;TZID=Europe/Paris:20250512T143000
DTSTAMP:20260422T230737
CREATED:20250511T184247Z
LAST-MODIFIED:20250511T184247Z
UID:14764-1747053000-1747060200@www.cifprodolfoucha.es
SUMMARY:Actividade deportiva no parque de Cabañas
DESCRIPTION:O alumnado do CS Ensinanza e animación sociodeportiva realizará unha sesión práctica de actividades deportivas no parque de Cabañas
URL:https://www.cifprodolfoucha.es/evento/actividade-deportiva-no-parque-de-cabanas/
END:VEVENT
BEGIN:VEVENT
DTSTART;TZID=Europe/Paris:20250512T103000
DTEND;TZID=Europe/Paris:20250512T123000
DTSTAMP:20260422T230737
CREATED:20250511T184027Z
LAST-MODIFIED:20250511T184027Z
UID:14762-1747045800-1747053000@www.cifprodolfoucha.es
SUMMARY:Presentación dos resultados do inventario de recursos turísticos e manual do inversor da comarca do Eume
DESCRIPTION:O alumnado e profesorado do CS Guía\, información e asistencias turísticas está convidado pola Deputación de A Coruña a: ” Presentación dos resultados do inventario de recursos turísticos e manual do inversor da comarca do Eume”. O evento terá lugar na escola de Cabañas.
URL:https://www.cifprodolfoucha.es/evento/presentacion-dos-resultados-do-inventario-de-recursos-turisticos-e-manual-do-inversor-da-comarca-do-eume/
END:VEVENT
BEGIN:VEVENT
DTSTART;TZID=Europe/Paris:20250422T083000
DTEND;TZID=Europe/Paris:20250422T150000
DTSTAMP:20260422T230737
CREATED:20250409T095203Z
LAST-MODIFIED:20250409T095203Z
UID:14672-1745310600-1745334000@www.cifprodolfoucha.es
SUMMARY:Visita a café Candelas
DESCRIPTION:O alumnado do 1º CS Administración e finanzas visita as instalacións de Cafés Candelas no polígono do Ceao (Lugo)
URL:https://www.cifprodolfoucha.es/evento/visita-a-cafe-candelas/
END:VEVENT
BEGIN:VEVENT
DTSTART;TZID=Europe/Paris:20250411T090000
DTEND;TZID=Europe/Paris:20250411T200000
DTSTAMP:20260422T230737
CREATED:20250409T094326Z
LAST-MODIFIED:20250409T094326Z
UID:14670-1744362000-1744401600@www.cifprodolfoucha.es
SUMMARY:Xornadas de ciberseguridade na FP
DESCRIPTION:O alumnado do curso de especialización de “Ciberseguridade en contornos das tecnoloxías da información” participa no CIFP Politécnico de Santiago nas Xornadas de ciberseguridade na FP
URL:https://www.cifprodolfoucha.es/evento/xornadas-de-ciberseguridade-na-fp/
END:VEVENT
BEGIN:VEVENT
DTSTART;TZID=Europe/Paris:20250403T091500
DTEND;TZID=Europe/Paris:20250403T123000
DTSTAMP:20260422T230737
CREATED:20250402T121931Z
LAST-MODIFIED:20250402T121931Z
UID:14660-1743671700-1743683400@www.cifprodolfoucha.es
SUMMARY:Foro Conecta Ferrol\, "Un Ferrol Poliédrico"
DESCRIPTION:O alumnado e profesorado do 1º curso do CS Guía\, información e asistencia turísticas participará neste foro que se celebrará na Sala Cruxeiras da Autoridade Portuaria de Ferrol
URL:https://www.cifprodolfoucha.es/evento/foro-conecta-ferrol-un-ferrol-poliedrico/
END:VEVENT
BEGIN:VEVENT
DTSTART;TZID=Europe/Paris:20250328T084500
DTEND;TZID=Europe/Paris:20250328T133000
DTSTAMP:20260422T230737
CREATED:20250327T201027Z
LAST-MODIFIED:20250327T201027Z
UID:14657-1743151500-1743168600@www.cifprodolfoucha.es
SUMMARY:Visita FPInnova
DESCRIPTION:O alumnado do CB Informática de oficina\, 2º CM Acitividades Comerciais e 1º CS Xestión de Vendas visitarán o FPInnova
URL:https://www.cifprodolfoucha.es/evento/visita-fpinnova/
END:VEVENT
END:VCALENDAR